Package: MMUPHin Version: 1.20.0 Command: /home/biocbuild/R/R/bin/R CMD INSTALL MMUPHin StartedAt: 2025-03-31 20:53:59 -0000 (Mon, 31 Mar 2025) EndedAt: 2025-03-31 20:54:08 -0000 (Mon, 31 Mar 2025) EllapsedTime: 9.4 seconds RetCode: 0 Status: OK