Package: MMUPHin Version: 1.20.0 Command: /home/biocbuild/bbs-3.20-bioc/R/bin/R CMD build --keep-empty-dirs --no-resave-data --md5 MMUPHin StartedAt: 2025-03-31 18:05:47 -0400 (Mon, 31 Mar 2025) EndedAt: 2025-03-31 18:06:42 -0400 (Mon, 31 Mar 2025) EllapsedTime: 55.0 seconds RetCode: 0 Status: OK PackageFile: MMUPHin_1.20.0.tar.gz PackageFileSize: 3.691 MiB