Package: MMUPHin Version: 1.20.0 Command: /Library/Frameworks/R.framework/Resources/bin/R CMD INSTALL MMUPHin StartedAt: 2025-03-31 16:10:18 -0400 (Mon, 31 Mar 2025) EndedAt: 2025-03-31 16:10:35 -0400 (Mon, 31 Mar 2025) EllapsedTime: 16.6 seconds RetCode: 0 Status: OK