Package: MLSeq Version: 2.24.0 Command: /home/biocbuild/R/R/bin/R CMD INSTALL MLSeq StartedAt: 2025-03-31 21:01:04 -0000 (Mon, 31 Mar 2025) EndedAt: 2025-03-31 21:01:48 -0000 (Mon, 31 Mar 2025) EllapsedTime: 43.7 seconds RetCode: 0 Status: OK