Package: MLSeq Version: 2.24.0 Command: F:\biocbuild\bbs-3.20-bioc\R\bin\R.exe CMD INSTALL MLSeq StartedAt: 2025-03-31 16:50:02 -0400 (Mon, 31 Mar 2025) EndedAt: 2025-03-31 16:50:59 -0400 (Mon, 31 Mar 2025) EllapsedTime: 56.6 seconds RetCode: 0 Status: OK