Package: MLSeq Version: 2.24.0 Command: F:\biocbuild\bbs-3.20-bioc\R\bin\R.exe CMD check --no-multiarch --install=check:MLSeq.install-out.txt --library=F:\biocbuild\bbs-3.20-bioc\R\library --no-vignettes --timings MLSeq_2.24.0.tar.gz StartedAt: 2025-04-01 03:34:25 -0400 (Tue, 01 Apr 2025) EndedAt: 2025-04-01 03:38:34 -0400 (Tue, 01 Apr 2025) EllapsedTime: 248.8 seconds RetCode: 0 Status: OK CheckDir: MLSeq.Rcheck Warnings: 0