Package: MLP Version: 1.54.0 Command: F:\biocbuild\bbs-3.20-bioc\R\bin\R.exe CMD INSTALL MLP StartedAt: 2025-03-31 15:54:55 -0400 (Mon, 31 Mar 2025) EndedAt: 2025-03-31 15:55:18 -0400 (Mon, 31 Mar 2025) EllapsedTime: 22.5 seconds RetCode: 0 Status: OK