Package: MLP Version: 1.54.0 Command: /Library/Frameworks/R.framework/Resources/bin/R CMD check --install=check:MLP.install-out.txt --library=/Library/Frameworks/R.framework/Resources/library --no-vignettes --timings MLP_1.54.0.tar.gz StartedAt: 2025-04-02 01:15:52 -0400 (Wed, 02 Apr 2025) EndedAt: 2025-04-02 01:19:54 -0400 (Wed, 02 Apr 2025) EllapsedTime: 241.9 seconds RetCode: 1 Status: ERROR CheckDir: MLP.Rcheck Warnings: NA