Package: MIRit Version: 1.2.0 Command: /home/biocbuild/R/R/bin/R CMD INSTALL MIRit StartedAt: 2025-03-31 21:09:00 -0000 (Mon, 31 Mar 2025) EndedAt: 2025-03-31 21:09:53 -0000 (Mon, 31 Mar 2025) EllapsedTime: 53.1 seconds RetCode: 0 Status: OK