Package: MIRit Version: 1.2.0 Command: chmod a+r MIRit -R && F:\biocbuild\bbs-3.20-bioc\R\bin\R.exe CMD build --keep-empty-dirs --no-resave-data MIRit StartedAt: 2025-03-31 20:12:29 -0400 (Mon, 31 Mar 2025) EndedAt: 2025-03-31 20:15:33 -0400 (Mon, 31 Mar 2025) EllapsedTime: 183.7 seconds RetCode: 0 Status: OK PackageFile: MIRit_1.2.0.tar.gz PackageFileSize: 2.175 MiB