Package: MIRit Version: 1.2.0 Command: /Library/Frameworks/R.framework/Resources/bin/R CMD check --install=check:MIRit.install-out.txt --library=/Library/Frameworks/R.framework/Resources/library --no-vignettes --timings MIRit_1.2.0.tar.gz StartedAt: 2025-04-01 05:44:11 -0400 (Tue, 01 Apr 2025) EndedAt: 2025-04-01 05:52:07 -0400 (Tue, 01 Apr 2025) EllapsedTime: 476.0 seconds RetCode: 0 Status: OK CheckDir: MIRit.Rcheck Warnings: 0