Package: MGnifyR Version: 1.2.0 Command: /Library/Frameworks/R.framework/Resources/bin/R CMD check --install=check:MGnifyR.install-out.txt --library=/Library/Frameworks/R.framework/Resources/library --no-vignettes --timings MGnifyR_1.2.0.tar.gz StartedAt: 2025-04-02 00:38:54 -0400 (Wed, 02 Apr 2025) EndedAt: 2025-04-02 00:51:16 -0400 (Wed, 02 Apr 2025) EllapsedTime: 742.1 seconds RetCode: 0 Status: OK CheckDir: MGnifyR.Rcheck Warnings: 0