Package: MGFM Version: 1.40.0 Command: /home/biocbuild/R/R/bin/R CMD check --install=check:MGFM.install-out.txt --library=/home/biocbuild/R/R/site-library --no-vignettes --timings MGFM_1.40.0.tar.gz StartedAt: 2025-04-01 08:14:39 -0000 (Tue, 01 Apr 2025) EndedAt: 2025-04-01 08:16:36 -0000 (Tue, 01 Apr 2025) EllapsedTime: 116.1 seconds RetCode: 0 Status: OK CheckDir: MGFM.Rcheck Warnings: 0