Package: MGFM Version: 1.40.0 Command: F:\biocbuild\bbs-3.20-bioc\R\bin\R.exe CMD INSTALL MGFM StartedAt: 2025-03-31 15:56:19 -0400 (Mon, 31 Mar 2025) EndedAt: 2025-03-31 15:56:35 -0400 (Mon, 31 Mar 2025) EllapsedTime: 16.2 seconds RetCode: 0 Status: OK