Package: MGFM Version: 1.40.0 Command: /Library/Frameworks/R.framework/Resources/bin/R CMD INSTALL MGFM StartedAt: 2025-03-31 15:46:07 -0400 (Mon, 31 Mar 2025) EndedAt: 2025-03-31 15:46:20 -0400 (Mon, 31 Mar 2025) EllapsedTime: 12.3 seconds RetCode: 0 Status: OK