Package: MEDME Version: 1.66.0 Command: /home/biocbuild/R/R/bin/R CMD INSTALL MEDME StartedAt: 2025-03-31 20:58:46 -0000 (Mon, 31 Mar 2025) EndedAt: 2025-03-31 20:59:05 -0000 (Mon, 31 Mar 2025) EllapsedTime: 18.4 seconds RetCode: 0 Status: OK