Package: MEDME Version: 1.66.0 Command: rm -rf MEDME.buildbin-libdir && mkdir MEDME.buildbin-libdir && F:\biocbuild\bbs-3.20-bioc\R\bin\R.exe CMD INSTALL --build --library=MEDME.buildbin-libdir MEDME_1.66.0.tar.gz StartedAt: 2025-04-01 08:33:22 -0400 (Tue, 01 Apr 2025) EndedAt: 2025-04-01 08:33:50 -0400 (Tue, 01 Apr 2025) EllapsedTime: 28.0 seconds RetCode: 0 Status: OK PackageFile: MEDME_1.66.0.zip PackageFileSize: 538.8 KiB