Package: MEDIPS Version: 1.58.0 Command: F:\biocbuild\bbs-3.20-bioc\R\bin\R.exe CMD INSTALL MEDIPS StartedAt: 2025-03-31 16:10:24 -0400 (Mon, 31 Mar 2025) EndedAt: 2025-03-31 16:11:31 -0400 (Mon, 31 Mar 2025) EllapsedTime: 67.2 seconds RetCode: 0 Status: OK