Package: MEDIPS Version: 1.58.0 Command: /Library/Frameworks/R.framework/Resources/bin/R CMD build --keep-empty-dirs --no-resave-data MEDIPS StartedAt: 2025-03-31 19:51:27 -0400 (Mon, 31 Mar 2025) EndedAt: 2025-03-31 19:55:00 -0400 (Mon, 31 Mar 2025) EllapsedTime: 213.5 seconds RetCode: 0 Status: OK PackageFile: MEDIPS_1.58.0.tar.gz PackageFileSize: 321.7 KiB