Package: MEDIPS Version: 1.58.0 Command: /Library/Frameworks/R.framework/Resources/bin/R CMD INSTALL MEDIPS StartedAt: 2025-03-31 16:29:27 -0400 (Mon, 31 Mar 2025) EndedAt: 2025-03-31 16:30:14 -0400 (Mon, 31 Mar 2025) EllapsedTime: 47.0 seconds RetCode: 0 Status: OK