Package: MEDIPS Version: 1.58.0 Command: /Library/Frameworks/R.framework/Resources/bin/R CMD check --install=check:MEDIPS.install-out.txt --library=/Library/Frameworks/R.framework/Resources/library --no-vignettes --timings MEDIPS_1.58.0.tar.gz StartedAt: 2025-04-01 23:56:14 -0400 (Tue, 01 Apr 2025) EndedAt: 2025-04-02 00:02:57 -0400 (Wed, 02 Apr 2025) EllapsedTime: 403.4 seconds RetCode: 0 Status: OK CheckDir: MEDIPS.Rcheck Warnings: 0