Package: MEDIPS Version: 1.58.0 Command: /Library/Frameworks/R.framework/Resources/bin/R CMD build --keep-empty-dirs --no-resave-data MEDIPS StartedAt: 2025-04-01 02:27:43 -0400 (Tue, 01 Apr 2025) EndedAt: 2025-04-01 02:30:10 -0400 (Tue, 01 Apr 2025) EllapsedTime: 147.2 seconds RetCode: 0 Status: OK PackageFile: MEDIPS_1.58.0.tar.gz PackageFileSize: 322.1 KiB