Package: MEB Version: 1.20.0 Command: /home/biocbuild/R/R/bin/R CMD INSTALL MEB StartedAt: 2025-03-31 21:03:23 -0000 (Mon, 31 Mar 2025) EndedAt: 2025-03-31 21:03:58 -0000 (Mon, 31 Mar 2025) EllapsedTime: 35.8 seconds RetCode: 0 Status: OK