Package: MEB Version: 1.20.0 Command: /home/biocbuild/R/R/bin/R CMD build --keep-empty-dirs --no-resave-data MEB StartedAt: 2025-04-01 00:36:54 -0000 (Tue, 01 Apr 2025) EndedAt: 2025-04-01 00:37:50 -0000 (Tue, 01 Apr 2025) EllapsedTime: 56.0 seconds RetCode: 0 Status: OK PackageFile: MEB_1.20.0.tar.gz PackageFileSize: 1.202 MiB