Package: MEB Version: 1.20.0 Command: /Library/Frameworks/R.framework/Resources/bin/R CMD build --keep-empty-dirs --no-resave-data MEB StartedAt: 2025-03-31 19:51:25 -0400 (Mon, 31 Mar 2025) EndedAt: 2025-03-31 19:53:09 -0400 (Mon, 31 Mar 2025) EllapsedTime: 103.8 seconds RetCode: 0 Status: OK PackageFile: MEB_1.20.0.tar.gz PackageFileSize: 1.179 MiB