Package: MEB Version: 1.20.0 Command: /Library/Frameworks/R.framework/Resources/bin/R CMD check --install=check:MEB.install-out.txt --library=/Library/Frameworks/R.framework/Resources/library --no-vignettes --timings MEB_1.20.0.tar.gz StartedAt: 2025-04-01 23:54:36 -0400 (Tue, 01 Apr 2025) EndedAt: 2025-04-01 23:58:05 -0400 (Tue, 01 Apr 2025) EllapsedTime: 209.2 seconds RetCode: 0 Status: OK CheckDir: MEB.Rcheck Warnings: 0