Package: MEAT Version: 1.18.0 Command: /Library/Frameworks/R.framework/Resources/bin/R CMD build --keep-empty-dirs --no-resave-data MEAT StartedAt: 2025-03-31 19:51:16 -0400 (Mon, 31 Mar 2025) EndedAt: 2025-03-31 19:54:13 -0400 (Mon, 31 Mar 2025) EllapsedTime: 176.5 seconds RetCode: 0 Status: OK PackageFile: MEAT_1.18.0.tar.gz PackageFileSize: 4.974 MiB