Package: MEAT Version: 1.18.0 Command: rm -rf MEAT.buildbin-libdir && mkdir MEAT.buildbin-libdir && /Users/biocbuild/BBS/utils/build-universal.sh MEAT_1.18.0.tar.gz /Library/Frameworks/R.framework/Resources/bin/R MEAT.buildbin-libdir StartedAt: 2025-04-01 12:11:05 -0400 (Tue, 01 Apr 2025) EndedAt: 2025-04-01 12:12:57 -0400 (Tue, 01 Apr 2025) EllapsedTime: 112.1 seconds RetCode: 0 Status: OK PackageFile: MEAT_1.18.0.tgz PackageFileSize: 5.607 MiB