Package: MEAT Version: 1.18.0 Command: /Library/Frameworks/R.framework/Resources/bin/R CMD check --install=check:MEAT.install-out.txt --library=/Library/Frameworks/R.framework/Resources/library --no-vignettes --timings MEAT_1.18.0.tar.gz StartedAt: 2025-04-01 23:54:24 -0400 (Tue, 01 Apr 2025) EndedAt: 2025-04-02 00:01:17 -0400 (Wed, 02 Apr 2025) EllapsedTime: 412.8 seconds RetCode: 0 Status: WARNINGS CheckDir: MEAT.Rcheck Warnings: 1