Package: MEAL Version: 1.36.0 Command: /home/biocbuild/R/R/bin/R CMD check --install=check:MEAL.install-out.txt --library=/home/biocbuild/R/R/site-library --no-vignettes --timings MEAL_1.36.0.tar.gz StartedAt: 2025-04-01 08:00:12 -0000 (Tue, 01 Apr 2025) EndedAt: 2025-04-01 08:06:41 -0000 (Tue, 01 Apr 2025) EllapsedTime: 389.5 seconds RetCode: 0 Status: WARNINGS CheckDir: MEAL.Rcheck Warnings: 2