Package: MEAL Version: 1.36.0 Command: /Library/Frameworks/R.framework/Resources/bin/R CMD check --install=check:MEAL.install-out.txt --library=/Library/Frameworks/R.framework/Resources/library --no-vignettes --timings MEAL_1.36.0.tar.gz StartedAt: 2025-04-01 05:13:11 -0400 (Tue, 01 Apr 2025) EndedAt: 2025-04-01 05:23:43 -0400 (Tue, 01 Apr 2025) EllapsedTime: 632.5 seconds RetCode: 0 Status: WARNINGS CheckDir: MEAL.Rcheck Warnings: 2