Package: MEAL Version: 1.36.0 Command: rm -rf MEAL.buildbin-libdir && mkdir MEAL.buildbin-libdir && /Users/biocbuild/BBS/utils/build-universal.sh MEAL_1.36.0.tar.gz /Library/Frameworks/R.framework/Resources/bin/R MEAL.buildbin-libdir StartedAt: 2025-04-02 15:02:23 -0400 (Wed, 02 Apr 2025) EndedAt: 2025-04-02 15:03:21 -0400 (Wed, 02 Apr 2025) EllapsedTime: 57.7 seconds RetCode: 0 Status: OK PackageFile: MEAL_1.36.0.tgz PackageFileSize: 2.178 MiB