Package: MCbiclust Version: 1.30.0 Command: /Library/Frameworks/R.framework/Resources/bin/R CMD INSTALL MCbiclust StartedAt: 2025-03-31 17:10:13 -0400 (Mon, 31 Mar 2025) EndedAt: 2025-03-31 17:10:37 -0400 (Mon, 31 Mar 2025) EllapsedTime: 23.8 seconds RetCode: 0 Status: OK