Package: MCbiclust Version: 1.30.0 Command: rm -rf MCbiclust.buildbin-libdir && mkdir MCbiclust.buildbin-libdir && /Users/biocbuild/BBS/utils/build-universal.sh MCbiclust_1.30.0.tar.gz /Library/Frameworks/R.framework/Resources/bin/R MCbiclust.buildbin-libdir StartedAt: 2025-04-02 15:01:55 -0400 (Wed, 02 Apr 2025) EndedAt: 2025-04-02 15:02:23 -0400 (Wed, 02 Apr 2025) EllapsedTime: 28.4 seconds RetCode: 0 Status: OK PackageFile: MCbiclust_1.30.0.tgz PackageFileSize: 8.029 MiB