Package: MBttest Version: 1.34.0 Command: rm -rf MBttest.buildbin-libdir && mkdir MBttest.buildbin-libdir && /Users/biocbuild/BBS/utils/build-universal.sh MBttest_1.34.0.tar.gz /Library/Frameworks/R.framework/Resources/bin/R MBttest.buildbin-libdir StartedAt: 2025-04-02 15:01:50 -0400 (Wed, 02 Apr 2025) EndedAt: 2025-04-02 15:01:55 -0400 (Wed, 02 Apr 2025) EllapsedTime: 4.5 seconds RetCode: 0 Status: OK PackageFile: MBttest_1.34.0.tgz PackageFileSize: 2.588 MiB