Package: MBQN Version: 2.18.0 Command: chmod a+r MBQN -R && F:\biocbuild\bbs-3.20-bioc\R\bin\R.exe CMD build --keep-empty-dirs --no-resave-data MBQN StartedAt: 2025-03-31 19:58:39 -0400 (Mon, 31 Mar 2025) EndedAt: 2025-03-31 19:58:55 -0400 (Mon, 31 Mar 2025) EllapsedTime: 15.5 seconds RetCode: 0 Status: OK PackageFile: MBQN_2.18.0.tar.gz PackageFileSize: 78.43 KiB