Package: MBECS Version: 1.10.0 Command: chmod a+r MBECS -R && F:\biocbuild\bbs-3.20-bioc\R\bin\R.exe CMD build --keep-empty-dirs --no-resave-data MBECS StartedAt: 2025-03-31 19:58:24 -0400 (Mon, 31 Mar 2025) EndedAt: 2025-03-31 19:59:57 -0400 (Mon, 31 Mar 2025) EllapsedTime: 92.9 seconds RetCode: 1 Status: ERROR PackageFile: None PackageFileSize: NA