Package: MBECS Version: 1.10.0 Command: /Library/Frameworks/R.framework/Resources/bin/R CMD build --keep-empty-dirs --no-resave-data MBECS StartedAt: 2025-03-31 19:49:22 -0400 (Mon, 31 Mar 2025) EndedAt: 2025-03-31 19:51:58 -0400 (Mon, 31 Mar 2025) EllapsedTime: 155.6 seconds RetCode: 1 Status: ERROR PackageFile: None PackageFileSize: NA