Package: MBECS Version: 1.10.0 Command: /Library/Frameworks/R.framework/Resources/bin/R CMD INSTALL MBECS StartedAt: 2025-03-31 17:27:12 -0400 (Mon, 31 Mar 2025) EndedAt: 2025-03-31 17:27:35 -0400 (Mon, 31 Mar 2025) EllapsedTime: 22.8 seconds RetCode: 0 Status: OK