Package: MBECS Version: 1.10.0 Command: /Library/Frameworks/R.framework/Resources/bin/R CMD check --install=check:MBECS.install-out.txt --library=/Library/Frameworks/R.framework/Resources/library --no-vignettes --timings MBECS_1.10.0.tar.gz StartedAt: 2025-03-21 23:43:40 -0400 (Fri, 21 Mar 2025) EndedAt: 2025-03-21 23:47:53 -0400 (Fri, 21 Mar 2025) EllapsedTime: 252.5 seconds RetCode: 0 Status: OK CheckDir: MBECS.Rcheck Warnings: 0