Package: MBCB Version: 1.60.0 Command: /Library/Frameworks/R.framework/Resources/bin/R CMD INSTALL MBCB StartedAt: 2025-03-31 15:04:32 -0400 (Mon, 31 Mar 2025) EndedAt: 2025-03-31 15:04:52 -0400 (Mon, 31 Mar 2025) EllapsedTime: 20.4 seconds RetCode: 0 Status: OK