Package: MBCB Version: 1.60.0 Command: /Library/Frameworks/R.framework/Resources/bin/R CMD check --install=check:MBCB.install-out.txt --library=/Library/Frameworks/R.framework/Resources/library --no-vignettes --timings MBCB_1.60.0.tar.gz StartedAt: 2025-04-01 05:09:46 -0400 (Tue, 01 Apr 2025) EndedAt: 2025-04-01 05:10:34 -0400 (Tue, 01 Apr 2025) EllapsedTime: 48.0 seconds RetCode: 0 Status: OK CheckDir: MBCB.Rcheck Warnings: 0