Package: MBCB Version: 1.60.0 Command: /Library/Frameworks/R.framework/Resources/bin/R CMD build --keep-empty-dirs --no-resave-data MBCB StartedAt: 2025-03-31 19:49:04 -0400 (Mon, 31 Mar 2025) EndedAt: 2025-03-31 19:49:24 -0400 (Mon, 31 Mar 2025) EllapsedTime: 20.0 seconds RetCode: 0 Status: OK PackageFile: MBCB_1.60.0.tar.gz PackageFileSize: 409.2 KiB