Package: MBAmethyl Version: 1.40.0 Command: /home/biocbuild/R/R/bin/R CMD INSTALL MBAmethyl StartedAt: 2025-03-31 20:10:47 -0000 (Mon, 31 Mar 2025) EndedAt: 2025-03-31 20:11:01 -0000 (Mon, 31 Mar 2025) EllapsedTime: 14.3 seconds RetCode: 0 Status: OK