Package: MBAmethyl Version: 1.40.0 Command: /home/biocbuild/bbs-3.20-bioc/R/bin/R CMD check --install=check:MBAmethyl.install-out.txt --library=/home/biocbuild/bbs-3.20-bioc/R/site-library --timings MBAmethyl_1.40.0.tar.gz StartedAt: 2025-03-31 23:34:59 -0400 (Mon, 31 Mar 2025) EndedAt: 2025-03-31 23:35:22 -0400 (Mon, 31 Mar 2025) EllapsedTime: 23.0 seconds RetCode: 0 Status: OK CheckDir: MBAmethyl.Rcheck Warnings: 0