Package: MBAmethyl Version: 1.40.0 Command: /Library/Frameworks/R.framework/Resources/bin/R CMD INSTALL MBAmethyl StartedAt: 2025-03-31 15:02:52 -0400 (Mon, 31 Mar 2025) EndedAt: 2025-03-31 15:02:55 -0400 (Mon, 31 Mar 2025) EllapsedTime: 2.8 seconds RetCode: 0 Status: OK