Package: MBASED Version: 1.40.0 Command: /home/biocbuild/R/R/bin/R CMD INSTALL MBASED StartedAt: 2025-03-31 20:31:47 -0000 (Mon, 31 Mar 2025) EndedAt: 2025-03-31 20:32:14 -0000 (Mon, 31 Mar 2025) EllapsedTime: 27.2 seconds RetCode: 0 Status: OK