Package: MBASED Version: 1.40.0 Command: /home/biocbuild/R/R/bin/R CMD build --keep-empty-dirs --no-resave-data MBASED StartedAt: 2025-04-01 00:34:45 -0000 (Tue, 01 Apr 2025) EndedAt: 2025-04-01 00:37:04 -0000 (Tue, 01 Apr 2025) EllapsedTime: 139.1 seconds RetCode: 0 Status: OK PackageFile: MBASED_1.40.0.tar.gz PackageFileSize: 351.9 KiB