Package: MAST Version: 1.32.0 Command: /home/biocbuild/R/R/bin/R CMD INSTALL MAST StartedAt: 2025-03-31 20:23:07 -0000 (Mon, 31 Mar 2025) EndedAt: 2025-03-31 20:23:57 -0000 (Mon, 31 Mar 2025) EllapsedTime: 50.7 seconds RetCode: 0 Status: OK