Package: MAPFX Version: 1.2.0 Command: /home/biocbuild/R/R/bin/R CMD INSTALL MAPFX StartedAt: 2025-03-31 21:09:53 -0000 (Mon, 31 Mar 2025) EndedAt: 2025-03-31 21:10:21 -0000 (Mon, 31 Mar 2025) EllapsedTime: 28.2 seconds RetCode: 0 Status: OK